BEGIN:VCALENDAR
VERSION:2.0
PRODID:-//eventon.com NONSGML v1.0//EN
CALSCALE:GREGORIAN
METHOD:PUBLISH
BEGIN:VEVENT
UID:69e763b2a643e
DTSTAMP:20260421T114658Z
DTSTART:20261023T180000Z
DTEND:20261023T215900Z
LOCATION:Stadttheater Weilheim Theaterplatz 1\,  Weilheim in Oberbayern
SUMMARY:“Katz im Sack”
DESCRIPTION:“Katz im Sack”\nhttps://wolfgang-ferdinand.de/eventon/katz-
 im-sack-3/
URL:https://wolfgang-ferdinand.de/eventon/katz-im-sack-3/
END:VEVENT
END:VCALENDAR