BEGIN:VCALENDAR
VERSION:2.0
PRODID:-//eventon.com NONSGML v1.0//EN
CALSCALE:GREGORIAN
METHOD:PUBLISH
BEGIN:VEVENT
UID:69e78b8a35752
DTSTAMP:20260421T143658Z
DTSTART:20261126T190000Z
DTEND:20261126T225900Z
LOCATION:Pallaufsaal Münsing Weipertshausener Str. 3\,  82541 Münsing
SUMMARY:“Katz im Sack”
DESCRIPTION:“Katz im Sack”\nhttps://wolfgang-ferdinand.de/eventon/katz-
 im-sack-4/
URL:https://wolfgang-ferdinand.de/eventon/katz-im-sack-4/
END:VEVENT
END:VCALENDAR