BEGIN:VCALENDAR
VERSION:2.0
PRODID:-//eventon.com NONSGML v1.0//EN
CALSCALE:GREGORIAN
METHOD:PUBLISH
BEGIN:VEVENT
UID:69e763840d146
DTSTAMP:20260421T114612Z
DTSTART:20261023T180000Z
DTEND:20261023T211700Z
LOCATION:Stadttheater Weilheim Theaterplatz 1\,  Weilheim in Oberbayern
SUMMARY:Ohrwürmer fürs Hirn
DESCRIPTION:\nhttps://wolfgang-ferdinand.de/eventon/ohrwuermer-fuers-hirn-3
 /
URL:https://wolfgang-ferdinand.de/eventon/ohrwuermer-fuers-hirn-3/
END:VEVENT
END:VCALENDAR