BEGIN:VCALENDAR
VERSION:2.0
PRODID:-//eventon.com NONSGML v1.0//EN
CALSCALE:GREGORIAN
METHOD:PUBLISH
BEGIN:VEVENT
UID:69e7638421e62
DTSTAMP:20260421T114612Z
DTSTART:20261124T190000Z
DTEND:20261124T221700Z
LOCATION:Pallaufsaal Münsing Weipertshausener Str. 3\,  82541 Münsing
SUMMARY:Ohrwürmer fürs Hirn
DESCRIPTION:\nhttps://wolfgang-ferdinand.de/eventon/ohrwuermer-fuers-hirn-4
 /
URL:https://wolfgang-ferdinand.de/eventon/ohrwuermer-fuers-hirn-4/
END:VEVENT
END:VCALENDAR